BEGIN:VCALENDAR
VERSION:2.0
PRODID:-//Weisse Fraeck//WF Termine//DE
CALSCALE:GREGORIAN
BEGIN:VEVENT
UID:1976-Rosenmontag-19760301@weisse-fraeck.de
DTSTAMP:20260421T102352Z
SUMMARY:Rosenmontag
DTSTART;VALUE=DATE:19760301
DTEND;VALUE=DATE:19760302
END:VEVENT
BEGIN:VEVENT
UID:1976-Fastnacht-19760302@weisse-fraeck.de
DTSTAMP:20260421T102352Z
SUMMARY:Fastnacht
DTSTART;VALUE=DATE:19760302
DTEND;VALUE=DATE:19760303
END:VEVENT
BEGIN:VEVENT
UID:1976-Aschermittwoch-19760303@weisse-fraeck.de
DTSTAMP:20260421T102352Z
SUMMARY:Aschermittwoch
DTSTART;VALUE=DATE:19760303
DTEND;VALUE=DATE:19760304
END:VEVENT
BEGIN:VEVENT
UID:1976-Beerdigung-19760306@weisse-fraeck.de
DTSTAMP:20260421T102352Z
SUMMARY:Beerdigung
DTSTART;VALUE=DATE:19760306
DTEND;VALUE=DATE:19760307
END:VEVENT
BEGIN:VEVENT
UID:1976-Narrefahrt-19760228@weisse-fraeck.de
DTSTAMP:20260421T102352Z
SUMMARY:Narrefahrt
DTSTART;VALUE=DATE:19760228
DTEND;VALUE=DATE:19760229
END:VEVENT
BEGIN:VEVENT
UID:1976-Altweiber-19760226@weisse-fraeck.de
DTSTAMP:20260421T102352Z
SUMMARY:Altweiber
DTSTART;VALUE=DATE:19760226
DTEND;VALUE=DATE:19760227
END:VEVENT
BEGIN:VEVENT
UID:1976-Thekenbeben-19760219@weisse-fraeck.de
DTSTAMP:20260421T102352Z
SUMMARY:Thekenbeben
DTSTART;VALUE=DATE:19760219
DTEND;VALUE=DATE:19760220
END:VEVENT
BEGIN:VEVENT
UID:1976-Hallenbeben-19760220@weisse-fraeck.de
DTSTAMP:20260421T102352Z
SUMMARY:Hallenbeben
DTSTART;VALUE=DATE:19760220
DTEND;VALUE=DATE:19760221
END:VEVENT
BEGIN:VEVENT
UID:1976-KiMaBa-19760215@weisse-fraeck.de
DTSTAMP:20260421T102352Z
SUMMARY:KiMaBa
DTSTART;VALUE=DATE:19760215
DTEND;VALUE=DATE:19760216
END:VEVENT
BEGIN:VEVENT
UID:1976-2--Sitzung-19760221@weisse-fraeck.de
DTSTAMP:20260421T102352Z
SUMMARY:2. Sitzung
DTSTART;VALUE=DATE:19760221
DTEND;VALUE=DATE:19760222
END:VEVENT
BEGIN:VEVENT
UID:1976-Damensitzung-19760213@weisse-fraeck.de
DTSTAMP:20260421T102352Z
SUMMARY:Damensitzung
DTSTART;VALUE=DATE:19760213
DTEND;VALUE=DATE:19760214
END:VEVENT
BEGIN:VEVENT
UID:1976-Ehrungs-Kaffee-19760208@weisse-fraeck.de
DTSTAMP:20260421T102352Z
SUMMARY:Ehrungs-Kaffee
DTSTART;VALUE=DATE:19760208
DTEND;VALUE=DATE:19760209
END:VEVENT
BEGIN:VEVENT
UID:1976-1--Sitzung-19760207@weisse-fraeck.de
DTSTAMP:20260421T102352Z
SUMMARY:1. Sitzung
DTSTART;VALUE=DATE:19760207
DTEND;VALUE=DATE:19760208
END:VEVENT
BEGIN:VEVENT
UID:1976-Aufbau---VVK-19760130@weisse-fraeck.de
DTSTAMP:20260421T102352Z
SUMMARY:Aufbau / VVK
DTSTART;VALUE=DATE:19760130
DTEND;VALUE=DATE:19760131
END:VEVENT
BEGIN:VEVENT
UID:1976-Gen-Probe-TECHNIK-19760203@weisse-fraeck.de
DTSTAMP:20260421T102352Z
SUMMARY:Gen.Probe TECHNIK
DTSTART;VALUE=DATE:19760203
DTEND;VALUE=DATE:19760204
END:VEVENT
BEGIN:VEVENT
UID:1976-Gen-Probe-PROGRAMM-19760205@weisse-fraeck.de
DTSTAMP:20260421T102352Z
SUMMARY:Gen.Probe PROGRAMM
DTSTART;VALUE=DATE:19760205
DTEND;VALUE=DATE:19760206
END:VEVENT
BEGIN:VEVENT
UID:1976-Gen-Probe-DaSi-19760209@weisse-fraeck.de
DTSTAMP:20260421T102352Z
SUMMARY:Gen.Probe DaSi
DTSTART;VALUE=DATE:19760209
DTEND;VALUE=DATE:19760210
END:VEVENT
BEGIN:VEVENT
UID:1976-Eröffnung-19761113@weisse-fraeck.de
DTSTAMP:20260421T102352Z
SUMMARY:Eröffnung
DTSTART;VALUE=DATE:19761113
DTEND;VALUE=DATE:19761114
END:VEVENT
END:VCALENDAR
